BEGIN:VCALENDAR
VERSION:2.0
PRODID:-//eventon.com NONSGML v1.0//EN
CALSCALE:GREGORIAN
METHOD:PUBLISH
BEGIN:VEVENT
UID:69eb33087d8d9
DTSTAMP:20260424T090824Z
DTSTART:20260502T130000Z
DTEND:20260502T150000Z
LOCATION:U.S. National Arboretum 2400 R St NE
SUMMARY:Spring Bird Walk
DESCRIPTION:Spring Bird Walk\nhttps://www.fona.org/events/spring-bird-walk-
 3/
URL:https://www.fona.org/events/spring-bird-walk-3/
END:VEVENT
END:VCALENDAR