BEGIN:VCALENDAR
VERSION:2.0
PRODID:-//eventon.com NONSGML v1.0//EN
CALSCALE:GREGORIAN
METHOD:PUBLISH
BEGIN:VEVENT
UID:69e4e9dce6ddc
DTSTAMP:20260419T144236Z
DTSTART:20260403T140000Z
DTEND:20260412T200000Z
LOCATION:U.S. National Arboretum 2400 R St NE
SUMMARY:Ikebana International Exhibit
DESCRIPTION:Ikebana International Exhibit\nhttps://www.fona.org/events/ikeb
 ana-international-exhibit/
URL:https://www.fona.org/events/ikebana-international-exhibit/
END:VEVENT
END:VCALENDAR